BEGIN:VCALENDAR
VERSION:2.0
PRODID:-//UnionJah University - ECPv6.15.17.1//NONSGML v1.0//EN
CALSCALE:GREGORIAN
METHOD:PUBLISH
X-ORIGINAL-URL:https://unionjah.com
X-WR-CALDESC:Events for UnionJah University
REFRESH-INTERVAL;VALUE=DURATION:PT1H
X-Robots-Tag:noindex
X-PUBLISHED-TTL:PT1H
BEGIN:VTIMEZONE
TZID:UTC
BEGIN:STANDARD
TZOFFSETFROM:+0000
TZOFFSETTO:+0000
TZNAME:UTC
DTSTART:20210101T000000
END:STANDARD
END:VTIMEZONE
BEGIN:VEVENT
DTSTART;TZID=UTC:20220723T080000
DTEND;TZID=UTC:20220724T170000
DTSTAMP:20260421T233047
CREATED:20220411T013839Z
LAST-MODIFIED:20220411T013839Z
UID:6762-1658563200-1658682000@unionjah.com
SUMMARY:Hip Hop Reggea Montreal Bash 2022
DESCRIPTION:UnionJah University present the MTl Quebc True Hip Hop Reggea Story\n1er Edition of the Hip Hop Reggea Bas 2022\n3 ays Camping 24 hrs\nA-Town\nSparka Brothaz\nRonnie \nRainmen \nProphecy Iziz \nFyah Root \nSky Walka Reptile \nLevel Up \n 
URL:https://unionjah.com/event/hip-hop-reggea-montreal-bash-2022/
CATEGORIES:Coptic Calendar
ATTACH;FMTTYPE=image/jpeg:https://unionjah.com/wp-content/uploads/2022/04/logo-23-juillet.jpg
END:VEVENT
END:VCALENDAR